BEGIN:VCALENDAR
PRODID:-//47CON CTF 2026//EN
VERSION:2.0
BEGIN:VEVENT
UID:3253@ctftime.org
SUMMARY:47CON CTF 2026 (Jeopardy)
PRIORITY:0
CATEGORIES:CTF
CLASS:PUBLIC
STATUS:CONFIRMED
DTSTART:20260417T080000Z
DTEND:20260418T080000Z
DTSTAMP:20260423T141538Z
URL:https://sugusuva.es/ctfd
DESCRIPTION:47CON CTF 2026
LOCATION:Valladolid (Spain)
END:VEVENT
END:VCALENDAR
